BEGIN:VCALENDAR
VERSION:2.0
PRODID:-//Support Services | Inclusive and Diverse Communities - ECPv6.15.20//NONSGML v1.0//EN
CALSCALE:GREGORIAN
METHOD:PUBLISH
X-WR-CALNAME:Support Services | Inclusive and Diverse Communities
X-ORIGINAL-URL:https://supportservices.org.au
X-WR-CALDESC:Events for Support Services | Inclusive and Diverse Communities
REFRESH-INTERVAL;VALUE=DURATION:PT1H
X-Robots-Tag:noindex
X-PUBLISHED-TTL:PT1H
BEGIN:VTIMEZONE
TZID:Australia/Sydney
BEGIN:STANDARD
TZOFFSETFROM:+1100
TZOFFSETTO:+1000
TZNAME:AEST
DTSTART:20250405T160000
END:STANDARD
BEGIN:DAYLIGHT
TZOFFSETFROM:+1000
TZOFFSETTO:+1100
TZNAME:AEDT
DTSTART:20251004T160000
END:DAYLIGHT
BEGIN:STANDARD
TZOFFSETFROM:+1100
TZOFFSETTO:+1000
TZNAME:AEST
DTSTART:20260404T160000
END:STANDARD
BEGIN:DAYLIGHT
TZOFFSETFROM:+1000
TZOFFSETTO:+1100
TZNAME:AEDT
DTSTART:20261003T160000
END:DAYLIGHT
BEGIN:STANDARD
TZOFFSETFROM:+1100
TZOFFSETTO:+1000
TZNAME:AEST
DTSTART:20270403T160000
END:STANDARD
BEGIN:DAYLIGHT
TZOFFSETFROM:+1000
TZOFFSETTO:+1100
TZNAME:AEDT
DTSTART:20271002T160000
END:DAYLIGHT
END:VTIMEZONE
BEGIN:VEVENT
DTSTART;TZID=Australia/Sydney:20260429T080000
DTEND;TZID=Australia/Sydney:20260430T170000
DTSTAMP:20260420T003925
CREATED:20251204T004834Z
LAST-MODIFIED:20251204T004834Z
UID:15802-1777449600-1777568400@supportservices.org.au
SUMMARY:Not Seen or Heard: Recognising and Responding to Abuse of Older People
DESCRIPTION:You are unauthorized to view this page. \n  \n  \n      \n\n               \n            \n        \n                              Username or E-mail\n                  \n        \n      \n      \n        \n          Password\n                    \n            \n            \n              \n            \n          \n        \n      \n          \n      \n        *\n      \n      \n      \n      \n    \n          \n         Remember Me\n      \n       \n      \n        \n        \n        \n        \n      \n    \n     \n    \n      Forgot Password
URL:https://supportservices.org.au/event/not-seen-or-heard-recognising-and-responding-to-abuse-of-older-people/
CATEGORIES:Aged Care Events,Community Events,Conferences,Noticeboard,Training Events,Webinars,Workshops
END:VEVENT
BEGIN:VEVENT
DTSTART;TZID=Australia/Sydney:20260430T180000
DTEND;TZID=Australia/Sydney:20260430T190000
DTSTAMP:20260420T003925
CREATED:20260330T233803Z
LAST-MODIFIED:20260330T233803Z
UID:16180-1777572000-1777575600@supportservices.org.au
SUMMARY:Peer Network: Siblings – Facilitated by Libby Ellis
DESCRIPTION:You are unauthorized to view this page.
URL:https://supportservices.org.au/event/peer-network-siblings-facilitated-by-libby-ellis-2/
CATEGORIES:Aged Care Events,Community Events,Conferences,Disability,Noticeboard,Workshops
END:VEVENT
BEGIN:VEVENT
DTSTART;TZID=Australia/Sydney:20260506T123000
DTEND;TZID=Australia/Sydney:20260506T133000
DTSTAMP:20260420T003925
CREATED:20260330T234249Z
LAST-MODIFIED:20260330T234249Z
UID:16186-1778070600-1778074200@supportservices.org.au
SUMMARY:Peer Network: NDIS for Inclusion – Facilitated by Penny Graham
DESCRIPTION:You are unauthorized to view this page.
URL:https://supportservices.org.au/event/peer-network-ndis-for-inclusion-facilitated-by-penny-graham-2/
CATEGORIES:Aged Care Events,Community Events,Conferences,Disability,Noticeboard,Training Events,Workshops
END:VEVENT
BEGIN:VEVENT
DTSTART;TZID=Australia/Sydney:20260528T180000
DTEND;TZID=Australia/Sydney:20260528T190000
DTSTAMP:20260420T003925
CREATED:20260330T234024Z
LAST-MODIFIED:20260330T234024Z
UID:16184-1779991200-1779994800@supportservices.org.au
SUMMARY:Peer Network: Siblings – Facilitated by Libby Ellis
DESCRIPTION:You are unauthorized to view this page.
URL:https://supportservices.org.au/event/peer-network-siblings-facilitated-by-libby-ellis-3/
CATEGORIES:Aged Care Events,Community Events,Conferences,Noticeboard,Training Events,Webinars
END:VEVENT
END:VCALENDAR